

BEGIN:VCALENDAR
VERSION:2.0
PRODID:-//hacksw/handcal//NONSGML v1.0//EN
CALSCALE:GREGORIAN
BEGIN:VEVENT
DTEND:20200817T193000
UID:69ebf40e254d7
DTSTAMP:20260425T085158
LOCATION:Fitzroy Victoria Bowls Club 578 Brunswick St North Fitzroy 3068 VIC
DESCRIPTION:Members and Friends Zoom meeting with virus restrictions at the Bowls Club. Join in with a drink and some nibbles and the conversation of great company. Lachlan Preston of Fitzroy Scouts will join us for a presentation.
Booking by Phil&nbsp\;0418 349 853. Talk to Anthea MacTiernan 0414 472 014.
URL;VALUE=URI:http://fitzroyrotary.org.au/event/42883
SUMMARY:Zoom Meeting Members and Friends
DTSTART:20200817T183000
END:VEVENT
END:VCALENDAR

