

BEGIN:VCALENDAR
VERSION:2.0
PRODID:-//hacksw/handcal//NONSGML v1.0//EN
CALSCALE:GREGORIAN
BEGIN:VEVENT
DTEND:20200831T193000
UID:69ebe1d00de21
DTSTAMP:20260425T073408
LOCATION:At Home not the Fitzroy Victoria Bowls Club 578 Brunswick St North Fitzroy 3068 VIC
DESCRIPTION:Members and Friends Zoom meeting in your cosy home. Come and enjoy our&nbsp\;virtual company\, have drink and the conversation of great company. Adventurer Julian Mather will give us a talk about his life experiences.
Book with Phil Hill 0418 349 853. Talk to Anthea MacTiernan 0414 472 014.
URL;VALUE=URI:http://fitzroyrotary.org.au/event/42884
SUMMARY:Zoom Meeting Members and Friends
DTSTART:20200831T183000
END:VEVENT
END:VCALENDAR

