

BEGIN:VCALENDAR
VERSION:2.0
PRODID:-//hacksw/handcal//NONSGML v1.0//EN
CALSCALE:GREGORIAN
BEGIN:VEVENT
DTEND:20200928T193000
UID:69ebd2380cf09
DTSTAMP:20260425T062736
LOCATION:At Home not the Fitzroy Victoria Bowls Club 578 Brunswick St North Fitzroy 3068 VIC
DESCRIPTION:Members and Friends Zoom meeting in your cosy home. Come and enjoy our&nbsp\;virtual company\, have drink and the conversation of great company. A community speaker will inform Members of some local issues.
Book with Phil Hill 0418 349 853. Talk to Anthea MacTiernan 0414 472 014.
URL;VALUE=URI:http://fitzroyrotary.org.au/event/43473
SUMMARY:Zoom Meeting Members and Friends
DTSTART:20200928T183000
END:VEVENT
END:VCALENDAR

