

BEGIN:VCALENDAR
VERSION:2.0
PRODID:-//hacksw/handcal//NONSGML v1.0//EN
CALSCALE:GREGORIAN
BEGIN:VEVENT
DTEND:20201116T190000
UID:69ebaf661024d
DTSTAMP:20260425T035902
LOCATION:At Home not the Fitzroy Victoria Bowls Club 578 Brunswick St North Fitzroy 3068 VIC
DESCRIPTION:Annual General&nbsp\;Meeting and Members are very welcome. Come and enjoy our&nbsp\;virtual company\, be informed and contribute to our Club's Administration.
Book with Phil Hill 0418 349 853. Talk to Anthea MacTiernan 0414 472 014.
URL;VALUE=URI:http://fitzroyrotary.org.au/event/43475
SUMMARY:Zoom AGM Meeting for all Members
DTSTART:20201116T180000
END:VEVENT
END:VCALENDAR

