

BEGIN:VCALENDAR
VERSION:2.0
PRODID:-//hacksw/handcal//NONSGML v1.0//EN
CALSCALE:GREGORIAN
BEGIN:VEVENT
DTEND:20201123T193000
UID:69eba02c19ab0
DTSTAMP:20260425T025404
LOCATION:Fitzroy Victoria Bowls Club 578 Brunswick St North Fitzroy 3068 VIC
DESCRIPTION:Members and Friends meeting at the Bowls Club. The AGM will be completed quickly. Past President Sue will present a Paul Harris Fellow Award. Come and enjoy dinner\, a few drinks and the conversation of great company\, something that was only a dream a month ago.
Book with Joy Millen 0421 060 468. Talk to Anthea MacTiernan 0414 472 014.
URL;VALUE=URI:http://fitzroyrotary.org.au/event/43820
SUMMARY:Meeting Members and Friends
DTSTART:20201123T183000
END:VEVENT
END:VCALENDAR

