

BEGIN:VCALENDAR
VERSION:2.0
PRODID:-//hacksw/handcal//NONSGML v1.0//EN
CALSCALE:GREGORIAN
BEGIN:VEVENT
DTEND:20210301T193000
UID:69eb914468e75
DTSTAMP:20260425T015028
LOCATION:Fitzroy Victoria Bowls Club 578 Brunswick St North Fitzroy 3068 VIC
DESCRIPTION:Members and Friends meeting at the Bowls Club.&nbsp\;We will have a guest speaker to inform you on current events.&nbsp\;Come and enjoy dinner\, a few drinks and the conversation of great company\, something that was only a dream&nbsp\;a couple of&nbsp\;months ago.
Book with Joy Millen 0421 060 468. Talk to Anthea MacTiernan 0414 472 014.
URL;VALUE=URI:http://fitzroyrotary.org.au/event/44397
SUMMARY:Meeting Members and Friends and Board
DTSTART:20210301T183000
END:VEVENT
END:VCALENDAR

