

BEGIN:VCALENDAR
VERSION:2.0
PRODID:-//hacksw/handcal//NONSGML v1.0//EN
CALSCALE:GREGORIAN
BEGIN:VEVENT
DTEND:20210315T193000
UID:69eb9b1e3ec1f
DTSTAMP:20260425T023230
LOCATION:Fitzroy Victoria Bowls Club 578 Brunswick St North Fitzroy 3068 VIC
DESCRIPTION:Members and Friends meeting at the Bowls Club.&nbsp\;We will have a International Women's Day video presentation.&nbsp\;Come and enjoy dinner\, a few drinks and the conversation of great company\, something that was only a dream&nbsp\;a couple of&nbsp\;months ago.
Book with Joy Millen 0421 060 468. Talk to Anthea MacTiernan 0414 472 014.
URL;VALUE=URI:http://fitzroyrotary.org.au/event/44398
SUMMARY:Meeting Members and Friends
DTSTART:20210315T183000
END:VEVENT
END:VCALENDAR

