

BEGIN:VCALENDAR
VERSION:2.0
PRODID:-//hacksw/handcal//NONSGML v1.0//EN
CALSCALE:GREGORIAN
BEGIN:VEVENT
DTEND:20210329T193000
UID:69eb8c592bf00
DTSTAMP:20260425T012929
LOCATION:Fitzroy Victoria Bowls Club 578 Brunswick St North Fitzroy 3068 VIC
DESCRIPTION:Members and Friends meeting at the Bowls Club.&nbsp\;We will Adrian Campbell provide a presentation and discussion on Rotary Outreach Myeloma Program and he will be joined by Assistant Governor Graeme Hope.&nbsp\;Come and enjoy dinner\, a few drinks and the conversation of great company\, and be informed of community action programs.
Book with Joy Millen 0421 060 468. Talk to Anthea MacTiernan 0414 472 014.
URL;VALUE=URI:http://fitzroyrotary.org.au/event/44442
SUMMARY:Meeting Members and Friends
DTSTART:20210329T183000
END:VEVENT
END:VCALENDAR

