

BEGIN:VCALENDAR
VERSION:2.0
PRODID:-//hacksw/handcal//NONSGML v1.0//EN
CALSCALE:GREGORIAN
BEGIN:VEVENT
DTEND:20210419T193000
UID:69ebaaef94065
DTSTAMP:20260425T033959
LOCATION:Fitzroy Victoria Bowls Club 578 Brunswick St North Fitzroy 3068 VIC
DESCRIPTION:Members and Friends meeting at the Bowls Club. We will arrange for a community Speaker. Come and enjoy dinner\, a few drinks and the conversation of great company\, and be informed of community action programs.
Book with Joy Millen 0421 060 468. Talk to Anthea MacTiernan 0414 472 014.
URL;VALUE=URI:http://fitzroyrotary.org.au/event/44783
SUMMARY:Meeting Members and Friends
DTSTART:20210419T183000
END:VEVENT
END:VCALENDAR

