

BEGIN:VCALENDAR
VERSION:2.0
PRODID:-//hacksw/handcal//NONSGML v1.0//EN
CALSCALE:GREGORIAN
BEGIN:VEVENT
DTEND:20210705T193000
UID:69ebbd71a4a31
DTSTAMP:20260425T045857
LOCATION:Fitzroy Victoria Bowls Club 578 Brunswick St North Fitzroy 3068 VIC
DESCRIPTION:Members and Friends meeting at the Bowls Club. A guest speaker from Operation Stitches will discuss their valuable work helping the disadvantaged particularly from inner Melbourne's public housing.
Book with Joy Millen 0421 060 468. Talk to Anthea MacTiernan 0414 472 014.
URL;VALUE=URI:http://fitzroyrotary.org.au/event/45725
SUMMARY:Meeting Members and Friends
DTSTART:20210705T183000
END:VEVENT
END:VCALENDAR

