

BEGIN:VCALENDAR
VERSION:2.0
PRODID:-//hacksw/handcal//NONSGML v1.0//EN
CALSCALE:GREGORIAN
BEGIN:VEVENT
DTEND:20210802T193000
UID:69ebd1944e097
DTSTAMP:20260425T062452
LOCATION:Fitzroy Victoria Bowls Club 578 Brunswick St North Fitzroy 3068 VIC
DESCRIPTION:Members and Friends meeting at the Bowls Club. Bring a friend or partner\, Anthea will arrange for a community speaker to keep you informed of what we can do for good. Enjoy good company\, nice food\, a few drinks and fun.
Book with Joy Millen 0421 060 468. Talk to Anthea MacTiernan 0414 472 014.
URL;VALUE=URI:http://fitzroyrotary.org.au/event/45726
SUMMARY:Meeting Members and Friends
DTSTART:20210802T183000
END:VEVENT
END:VCALENDAR

