

BEGIN:VCALENDAR
VERSION:2.0
PRODID:-//hacksw/handcal//NONSGML v1.0//EN
CALSCALE:GREGORIAN
BEGIN:VEVENT
DTEND:20231106T203000
UID:69e5f6355f6e4
DTSTAMP:20260420T194733
LOCATION:Fitzroy Victoria Bowls Club 578 Brunswick St North Fitzroy 3068 VIC
DESCRIPTION:Cup Eve Dinner for Members and Friends at the Bowls Club. Bring a friend or partner\, Sue and Joy will arrange a some entertainment and the night will have a horsey theme with funny hats and tight suits. Enjoy good company\, nice food\, a few drinks and fun.
Book with Joy Millen 0421 060 468. Talk to Sue Moses-Critchley0418 342 482.
URL;VALUE=URI:http://fitzroyrotary.org.au/event/52952
SUMMARY:Cup Eve Dinner Members and Friends
DTSTART:20231106T183000
END:VEVENT
END:VCALENDAR

