

BEGIN:VCALENDAR
VERSION:2.0
PRODID:-//hacksw/handcal//NONSGML v1.0//EN
CALSCALE:GREGORIAN
BEGIN:VEVENT
DTEND:20231204T193000
UID:69e7309a455e2
DTSTAMP:20260421T180858
LOCATION:Fitzroy Victoria Bowls Club 578 Brunswick St North Fitzroy 3068 VIC
DESCRIPTION:Members and Friends fund raiser BBQ meeting at the Bowls Club. Talk to Menka about bringing a salad or some nibbles. Come along\, help raise money\, have some fun and enjoy the company of dedicated people.
Book with Joy Millen 0421 060 468. Talk to Sue Moses-Critchley0418 342 482.
URL;VALUE=URI:http://fitzroyrotary.org.au/event/53319
SUMMARY:Meeting Members and Friends
DTSTART:20231204T183000
END:VEVENT
END:VCALENDAR

