

BEGIN:VCALENDAR
VERSION:2.0
PRODID:-//hacksw/handcal//NONSGML v1.0//EN
CALSCALE:GREGORIAN
BEGIN:VEVENT
DTEND:20231210T160000
UID:69e5e6b566c14
DTSTAMP:20260420T184125
LOCATION:The Don's Home 81 Victoria Rd Hawthorn East 3123 VIC
DESCRIPTION:Members and Friends Christmas Party at the Don's home. Bring a friend or partner\, Peter will cook up a storm and we will eat indoor and out. Enjoy good company\, nice food\, a few drinks and Christmas fun.
Book with Joy Millen 0421 060 468. Talk to Sue Moses-Critchley0418 342 482.
URL;VALUE=URI:http://fitzroyrotary.org.au/event/53320
SUMMARY:Christmas Party Members and Friends
DTSTART:20231210T123000
END:VEVENT
END:VCALENDAR

