

BEGIN:VCALENDAR
VERSION:2.0
PRODID:-//hacksw/handcal//NONSGML v1.0//EN
CALSCALE:GREGORIAN
BEGIN:VEVENT
DTEND:20240120T203000
UID:69e5d58ee0b64
DTSTAMP:20260420T172814
LOCATION:The Hill's Home 801/70 Lorimer St Docklands 3000 VIC
DESCRIPTION:Members and Friends first meeting of the year at the Hill's home. Bring a friend or partner\, Phil will cook up a storm and we will eat indoor and out. Enjoy good company\, nice food\, a few drinks and multi story fun.
Book with Joy Millen 0421 060 468. Talk to Sue Moses-Critchley0418 342 482.
URL;VALUE=URI:http://fitzroyrotary.org.au/event/53321
SUMMARY:First Meeting of Members and Friends
DTSTART:20240120T183000
END:VEVENT
END:VCALENDAR

