

BEGIN:VCALENDAR
VERSION:2.0
PRODID:-//hacksw/handcal//NONSGML v1.0//EN
CALSCALE:GREGORIAN
BEGIN:VEVENT
DTEND:20241011T200000
UID:69e5721db2816
DTSTAMP:20260420T102357
LOCATION:Fitzroy Victoria Bowls Club 578 Brunswick St North Fitzroy 3068 VIC
DESCRIPTION:Members and Friends are invited to get a group of mates together and have a fun night of social competitive Bowls. Enjoy good company\, nice food\, a few drinks and fun. All funds raised will go to community projects.
Book with Anthea MacTiernan 0414 472 014. Talk to Denise 0422 309 494.
URL;VALUE=URI:http://fitzroyrotary.org.au/event/54737
SUMMARY:Crackerjack Family and Friend Fund Raiser
DTSTART:20241011T183000
END:VEVENT
END:VCALENDAR

