

BEGIN:VCALENDAR
VERSION:2.0
PRODID:-//hacksw/handcal//NONSGML v1.0//EN
CALSCALE:GREGORIAN
BEGIN:VEVENT
DTEND:20240408T193000
UID:69e4e6fa4ff66
DTSTAMP:20260420T003018
LOCATION:Fitzroy Victoria Bowls Club 578 Brunswick St North Fitzroy 3068 VIC
DESCRIPTION:Fellowship Meeting of Members and Friends meeting at the Bowls Club. Come along\, discuss something important\, have some fun and enjoy the company of dedicated people.
Book with Joy Millen 0421 060 468. Talk to Sue Moses-Critchley0418 342 482.
URL;VALUE=URI:http://fitzroyrotary.org.au/event/54896
SUMMARY:Fellowship Meeting Members and Friends
DTSTART:20240408T183000
END:VEVENT
END:VCALENDAR

