

BEGIN:VCALENDAR
VERSION:2.0
PRODID:-//hacksw/handcal//NONSGML v1.0//EN
CALSCALE:GREGORIAN
BEGIN:VEVENT
DTEND:20240506T193000
UID:69e5081728ba9
DTSTAMP:20260420T025135
LOCATION:Fitzroy Victoria Bowls Club 578 Brunswick St North Fitzroy 3068 VIC
DESCRIPTION:Fellowship Meeting of Members and Friends meeting at the Bowls Club. A Forum will be held on improving Membership in our Club. Come along\, discuss something important\, have some fun and enjoy the company of dedicated people.
Book with Joy Millen 0421 060 468. Talk to Sue Moses-Critchley0418 342 482.
URL;VALUE=URI:http://fitzroyrotary.org.au/event/54897
SUMMARY:Fellowship Meeting Members and Friends
DTSTART:20240506T183000
END:VEVENT
END:VCALENDAR

