

BEGIN:VCALENDAR
VERSION:2.0
PRODID:-//hacksw/handcal//NONSGML v1.0//EN
CALSCALE:GREGORIAN
BEGIN:VEVENT
DTEND:20240318T193000
UID:69e4d7f22646f
DTSTAMP:20260419T232610
LOCATION:Fitzroy Victoria Bowls Club 578 Brunswick St North Fitzroy 3068 VIC
DESCRIPTION:Members and Friends meeting at the Bowls Club. Rotary will arrange a guest speaker to talk to us about Rotary's Regionalisation Program. Come along\, be informed\, have some fun and enjoy the company of dedicated people.
Book with Joy Millen 0421 060 468. Talk to Sue Moses-Critchley0418 342 482.
URL;VALUE=URI:http://fitzroyrotary.org.au/event/54899
SUMMARY:Meeting Members and Friends
DTSTART:20240318T183000
END:VEVENT
END:VCALENDAR

