

BEGIN:VCALENDAR
VERSION:2.0
PRODID:-//hacksw/handcal//NONSGML v1.0//EN
CALSCALE:GREGORIAN
BEGIN:VEVENT
DTEND:20240422T193000
UID:69e4f5ee215ce
DTSTAMP:20260420T013406
LOCATION:Fitzroy Victoria Bowls Club 578 Brunswick St North Fitzroy 3068 VIC
DESCRIPTION:Board meeting and Members and Friends meeting at the Bowls Club. Rotary will arrange guest speaker Peter Frueh to talk to us about Regionalisation. Come along\, be informed\, have some fun and enjoy the company of dedicated people.
Book with Joy Millen 0421 060 468. Talk to Sue Moses-Critchley0418 342 482.
URL;VALUE=URI:http://fitzroyrotary.org.au/event/54900
SUMMARY:Meeting Members and Friends and Board
DTSTART:20240422T183000
END:VEVENT
END:VCALENDAR

