

BEGIN:VCALENDAR
VERSION:2.0
PRODID:-//hacksw/handcal//NONSGML v1.0//EN
CALSCALE:GREGORIAN
BEGIN:VEVENT
DTEND:20240520T193000
UID:69e5188c8855c
DTSTAMP:20260420T040148
LOCATION:Fitzroy Victoria Bowls Club 578 Brunswick St North Fitzroy 3068 VIC
DESCRIPTION:Members and Friends meeting at the Bowls Club. Rotary will arrange a guest speaker to talk to us about the City of Yarra and our community. Come along\, be informed\, have some fun and enjoy the company of dedicated people.
Book with Joy Millen 0421 060 468. Talk to Sue Moses-Critchley0418 342 482.
URL;VALUE=URI:http://fitzroyrotary.org.au/event/54901
SUMMARY:Meeting Members and Friends
DTSTART:20240520T183000
END:VEVENT
END:VCALENDAR

