

BEGIN:VCALENDAR
VERSION:2.0
PRODID:-//hacksw/handcal//NONSGML v1.0//EN
CALSCALE:GREGORIAN
BEGIN:VEVENT
DTEND:20240623T150000
UID:69e53bc2749b0
DTSTAMP:20260420T063202
LOCATION:Clifton Hill Hotel 89 Queens Parade North Fitzroy 3068 VIC
DESCRIPTION:Changeover Lunch for Members and Friends at the Clifton Hill Hotel. Thanking Sue and Joy for their year as President and welcoming Denise Charman who will be a great president for 2024/25. Come along\, be informed\, have some fun and enjoy the company of dedicated people.
Book with Denise Charman 0422 309 494
URL;VALUE=URI:http://fitzroyrotary.org.au/event/54902
SUMMARY:Changeover Lunch - Members and Friends
DTSTART:20240623T120000
END:VEVENT
END:VCALENDAR

