

BEGIN:VCALENDAR
VERSION:2.0
PRODID:-//hacksw/handcal//NONSGML v1.0//EN
CALSCALE:GREGORIAN
BEGIN:VEVENT
DTEND:20240323T040000
UID:69e5c49fd02b4
DTSTAMP:20260420T161559
LOCATION:Atherton Gardens Napier Street Fitzroy 3065 VIC
DESCRIPTION:Help Geeks out by cooking snags for the soccer kids. Great community involvement get to help the kids be fully involved in sport.
Volunteer we need your support. Ring Sue 0418 342 482
URL;VALUE=URI:http://fitzroyrotary.org.au/event/55261
SUMMARY:Chris McGeakon BBQ
DTSTART:20240323T020000
END:VEVENT
END:VCALENDAR

