

BEGIN:VCALENDAR
VERSION:2.0
PRODID:-//hacksw/handcal//NONSGML v1.0//EN
CALSCALE:GREGORIAN
BEGIN:VEVENT
DTEND:20240727T140000
UID:69e54cae1da9d
DTSTAMP:20260420T074414
LOCATION:Fitzroy Victoria Bowls Club 578 Brunswick St North Fitzroy 3068 VIC
DESCRIPTION:Members and Friends Fitzroy Footy Club Lunch at the Bowls Club. A fabulous guest speaker will entertain you on current sporting topics. Come along\, be informed\, have some fun and enjoy the company of dedicated people raising money for Rotary Sport Scholarships.
Book with Peter Hille 0407 177 457.
URL;VALUE=URI:http://fitzroyrotary.org.au/event/56502
SUMMARY:Fitzroy Footy Lunch Fund Raiser
DTSTART:20240727T120000
END:VEVENT
END:VCALENDAR

