

BEGIN:VCALENDAR
VERSION:2.0
PRODID:-//hacksw/handcal//NONSGML v1.0//EN
CALSCALE:GREGORIAN
BEGIN:VEVENT
DTEND:20240804T150000
UID:69e55d5e5b306
DTSTAMP:20260420T085526
LOCATION:Anthea MacTiernan's Home 348 Young Street Fitzroy 3065 VIC
DESCRIPTION:Members and Friends are welcomed to Anthea MacTiernan's home for a Winter Warmers fundraiser. Soup\, toast and wine\, good conversations in a nice warm house. Come along\, have some fun and enjoy the company of dedicated people.
Book with Anthea 0414 472 014.
URL;VALUE=URI:http://fitzroyrotary.org.au/event/56537
SUMMARY:Winter Warmers - Meeting Members and Friends
DTSTART:20240804T120000
END:VEVENT
END:VCALENDAR

