

BEGIN:VCALENDAR
VERSION:2.0
PRODID:-//hacksw/handcal//NONSGML v1.0//EN
CALSCALE:GREGORIAN
BEGIN:VEVENT
DTEND:20240810T150000
UID:69e5924b4bee0
DTSTAMP:20260420T124115
LOCATION:DIK Shed 39/400 Somerville Road West Footscray 3012 VIC
DESCRIPTION:Visit Donations in Kind and find out what this wonderful Rotary institution does to help the needy in our Region.
Talk to Denise if you need some information. 0422 309 494
URL;VALUE=URI:http://fitzroyrotary.org.au/event/56780
SUMMARY:Donations In Kind - Open Day
DTSTART:20240810T100000
END:VEVENT
END:VCALENDAR

