

BEGIN:VCALENDAR
VERSION:2.0
PRODID:-//hacksw/handcal//NONSGML v1.0//EN
CALSCALE:GREGORIAN
BEGIN:VEVENT
DTEND:20240715T203000
UID:69e5a208d2931
DTSTAMP:20260420T134824
LOCATION:Fitzroy Victoria Bowls Club 578 Brunswick St North Fitzroy 3068 VIC
DESCRIPTION:Christmas In July Fund Raiser meeting of Members and Friends at the Bowls Club. Beverley will organise a wonderful feast of Xmas treats to raise funds for the Fitzroy Scouts. Come along\,have some fun and enjoy the company of dedicated people doing good.
Book with Beverley 0412 365 404
URL;VALUE=URI:http://fitzroyrotary.org.au/event/56783
SUMMARY:Christmas In July - Fundraiser
DTSTART:20240715T183000
END:VEVENT
END:VCALENDAR

