

BEGIN:VCALENDAR
VERSION:2.0
PRODID:-//hacksw/handcal//NONSGML v1.0//EN
CALSCALE:GREGORIAN
BEGIN:VEVENT
DTEND:20241104T200000
UID:69e553f34a9e1
DTSTAMP:20260420T081515
LOCATION:Fitzroy Victoria Bowls Club 578 Brunswick St North Fitzroy 3068 VIC
DESCRIPTION:Gathering of Members and Friends for a fundraiser at the Bowls Club. Dinner and Steve Earl's Phantom race call. A big night of racing\, sweeps and the odd bet. Come along\, spend and win some money\, have some fun and enjoy the company of dedicated people raising funds for the community.
Warning\, gamble responsibly!!! Is that possible?
Book with Peter Hille 0407 177 457.
URL;VALUE=URI:http://fitzroyrotary.org.au/event/57614
SUMMARY:Gathering of Members and Friends
DTSTART:20241104T180000
END:VEVENT
END:VCALENDAR

