

BEGIN:VCALENDAR
VERSION:2.0
PRODID:-//hacksw/handcal//NONSGML v1.0//EN
CALSCALE:GREGORIAN
BEGIN:VEVENT
DTEND:20241221T160000
UID:69e531bbba352
DTSTAMP:20260420T054915
LOCATION:Atherton Gardens Napier Street Richmond Estate Fitzroy 3065 VIC
DESCRIPTION:Help Geeks out by cooking snags for the soccer kids. Great community involvement get to help the kids be fully involved in sport.
Volunteer we need your support. Ring Sue 0418 342 482
URL;VALUE=URI:http://fitzroyrotary.org.au/event/57618
SUMMARY:Chris McGeakon BBQ
DTSTART:20241221T110000
END:VEVENT
END:VCALENDAR

