

BEGIN:VCALENDAR
VERSION:2.0
PRODID:-//hacksw/handcal//NONSGML v1.0//EN
CALSCALE:GREGORIAN
BEGIN:VEVENT
DTEND:20241208T150000
UID:69e5443dcb7cb
DTSTAMP:20260420T070813
LOCATION:Pat and Barrie's Home 272 McKean Street North Fitzroy 3068 VIC
DESCRIPTION:Members and Friends Xmas Lunch meeting at the Morton's.&nbsp\; This will be catered so bring a salad and some good companionship. Come along\, bring some seasonal cheer\, have some fun and enjoy the company of dedicated people.
Book with Peter Hille 0407 177 457.
URL;VALUE=URI:http://fitzroyrotary.org.au/event/57619
SUMMARY:Xmas Gathering of Members and Friends
DTSTART:20241208T130000
END:VEVENT
END:VCALENDAR

