

BEGIN:VCALENDAR
VERSION:2.0
PRODID:-//hacksw/handcal//NONSGML v1.0//EN
CALSCALE:GREGORIAN
BEGIN:VEVENT
DTEND:20250119T150000
UID:69e52131aacb2
DTSTAMP:20260420T043841
LOCATION:Joy's Home 80 Derby St Kew 3101 VIC
DESCRIPTION:Board Members planning Meeting at Joy's.&nbsp\; Loy will be catered so bring a drink and some good ideas. Come along\, and enjoy the company of dedicated people.
Talk to Joy 0421060468
URL;VALUE=URI:http://fitzroyrotary.org.au/event/58215
SUMMARY:Board and Program Meeting
DTSTART:20250119T130000
END:VEVENT
END:VCALENDAR

