

BEGIN:VCALENDAR
VERSION:2.0
PRODID:-//hacksw/handcal//NONSGML v1.0//EN
CALSCALE:GREGORIAN
BEGIN:VEVENT
DTEND:20250708T160000
UID:69e4fe4c70cb2
DTSTAMP:20260420T020948
LOCATION:Collingwood College 1/7 McCutcheon Way Collingwood 3066 VIC
DESCRIPTION:Help Geeks out by cooking snags for the soccer kids. Great community involvement get to help the kids be fully involved in sport.
Volunteer we need your support. Ring Sue 0418 342 482
URL;VALUE=URI:http://fitzroyrotary.org.au/event/63695
SUMMARY:Chris McGeakon BBQ
DTSTART:20250708T110000
END:VEVENT
END:VCALENDAR

