

BEGIN:VCALENDAR
VERSION:2.0
PRODID:-//hacksw/handcal//NONSGML v1.0//EN
CALSCALE:GREGORIAN
BEGIN:VEVENT
DTEND:20250927T193000
UID:69e4ed070b6d8
DTSTAMP:20260420T005607
LOCATION:Fitzroy Victoria Bowls Club 578 Brunswick St North Fitzroy 3068 VIC
DESCRIPTION:Members and Friends event at the Bowls Club.&nbsp\; Anthea&nbsp\;has booked a table for the Footy Grand Final. Come along\, yell and scream\, have some fun and enjoy the company of footy&nbsp\;lovers..
Talk to Anthea&nbsp\;0414 472 014&nbsp\;
URL;VALUE=URI:http://fitzroyrotary.org.au/event/64463
SUMMARY:Meeting Members and Friends Grand Final
DTSTART:20250927T183000
END:VEVENT
END:VCALENDAR

