

BEGIN:VCALENDAR
VERSION:2.0
PRODID:-//hacksw/handcal//NONSGML v1.0//EN
CALSCALE:GREGORIAN
BEGIN:VEVENT
DTEND:20251019T130000
UID:69e4dc40c35b5
DTSTAMP:20260419T234432
LOCATION:Princes Park Sydney Road Princes Park 3068 VIC
DESCRIPTION:A great Service Project cooking food for this Downs Victoria fund raiser. Help by volunteering for two hours of hectic service.
Book with Barrie Morton 0413 568 599. Talk to Anthea&nbsp\;0414472014.
URL;VALUE=URI:http://fitzroyrotary.org.au/event/64464
SUMMARY:Step Up For Downs
DTSTART:20251019T090000
END:VEVENT
END:VCALENDAR

